BEGIN:VCALENDAR
VERSION:2.0
PRODID:-//Carthage Nazarene Church - ECPv6.15.20//NONSGML v1.0//EN
CALSCALE:GREGORIAN
METHOD:PUBLISH
X-ORIGINAL-URL:https://carthagenazarenechurch.com
X-WR-CALDESC:Events for Carthage Nazarene Church
REFRESH-INTERVAL;VALUE=DURATION:PT1H
X-Robots-Tag:noindex
X-PUBLISHED-TTL:PT1H
BEGIN:VTIMEZONE
TZID:UTC
BEGIN:STANDARD
TZOFFSETFROM:+0000
TZOFFSETTO:+0000
TZNAME:UTC
DTSTART:20180101T000000
END:STANDARD
END:VTIMEZONE
BEGIN:VEVENT
DTSTART;TZID=UTC:20231130T173000
DTEND;TZID=UTC:20231130T193000
DTSTAMP:20260423T154825
CREATED:20231018T125824Z
LAST-MODIFIED:20231018T125824Z
UID:923-1701365400-1701372600@carthagenazarenechurch.com
SUMMARY:Bible Study
DESCRIPTION:Join us as we dive into God’s word!
URL:https://carthagenazarenechurch.com/event/bible-study-7
END:VEVENT
BEGIN:VEVENT
DTSTART;TZID=UTC:20231116T173000
DTEND;TZID=UTC:20231116T193000
DTSTAMP:20260423T154825
CREATED:20231018T125745Z
LAST-MODIFIED:20231018T125745Z
UID:921-1700155800-1700163000@carthagenazarenechurch.com
SUMMARY:Bible Study
DESCRIPTION:Join us as we dive into God’s word!
URL:https://carthagenazarenechurch.com/event/bible-study-6
END:VEVENT
BEGIN:VEVENT
DTSTART;TZID=UTC:20231109T173000
DTEND;TZID=UTC:20231109T193000
DTSTAMP:20260423T154825
CREATED:20231018T125720Z
LAST-MODIFIED:20231018T125720Z
UID:919-1699551000-1699558200@carthagenazarenechurch.com
SUMMARY:Bible Study
DESCRIPTION:Join us as we dive into God’s word!
URL:https://carthagenazarenechurch.com/event/bible-study-5
END:VEVENT
BEGIN:VEVENT
DTSTART;TZID=UTC:20231102T173000
DTEND;TZID=UTC:20231102T193000
DTSTAMP:20260423T154825
CREATED:20231018T125621Z
LAST-MODIFIED:20231018T125621Z
UID:917-1698946200-1698953400@carthagenazarenechurch.com
SUMMARY:Bible Study
DESCRIPTION:Join us as we dive into God’s word!
URL:https://carthagenazarenechurch.com/event/bible-study-4
END:VEVENT
BEGIN:VEVENT
DTSTART;TZID=UTC:20231026T173000
DTEND;TZID=UTC:20231026T193000
DTSTAMP:20260423T154825
CREATED:20231011T140521Z
LAST-MODIFIED:20231018T125528Z
UID:913-1698341400-1698348600@carthagenazarenechurch.com
SUMMARY:Bible Study
DESCRIPTION:Join us as we dive into God’s word!
URL:https://carthagenazarenechurch.com/event/bible-study-3
END:VEVENT
BEGIN:VEVENT
DTSTART;TZID=UTC:20231019T173000
DTEND;TZID=UTC:20231019T193000
DTSTAMP:20260423T154825
CREATED:20231011T140454Z
LAST-MODIFIED:20231018T125454Z
UID:911-1697736600-1697743800@carthagenazarenechurch.com
SUMMARY:Bible Study
DESCRIPTION:Join us as we dive into God’s word!
URL:https://carthagenazarenechurch.com/event/bible-study-2
END:VEVENT
BEGIN:VEVENT
DTSTART;TZID=UTC:20231013T173000
DTEND;TZID=UTC:20231013T193000
DTSTAMP:20260423T154825
CREATED:20231011T140402Z
LAST-MODIFIED:20231011T140402Z
UID:909-1697218200-1697225400@carthagenazarenechurch.com
SUMMARY:Bible Study
DESCRIPTION:Join us as we dive into God’s word!
URL:https://carthagenazarenechurch.com/event/bible-study
END:VEVENT
BEGIN:VEVENT
DTSTART;TZID=UTC:20231012T163000
DTEND;TZID=UTC:20231012T173000
DTSTAMP:20260423T154825
CREATED:20231011T140635Z
LAST-MODIFIED:20231011T140635Z
UID:915-1697128200-1697131800@carthagenazarenechurch.com
SUMMARY:Stone Soup Supper
DESCRIPTION:Pick-up at 4:45pm – 5:30
URL:https://carthagenazarenechurch.com/event/stone-soup-supper
END:VEVENT
BEGIN:VEVENT
DTSTART;TZID=UTC:20200507T190000
DTEND;TZID=UTC:20200507T190000
DTSTAMP:20260423T154825
CREATED:20200227T141159Z
LAST-MODIFIED:20200227T141159Z
UID:608-1588878000-1588878000@carthagenazarenechurch.com
SUMMARY:National Day of Prayer Service
DESCRIPTION:Join us for this community prayer and worship service hosted at our Church\, 956 State St. in Carthage on the National Day of Prayer.
URL:https://carthagenazarenechurch.com/event/national-day-of-prayer-service
END:VEVENT
BEGIN:VEVENT
DTSTART;VALUE=DATE:20200506
DTEND;VALUE=DATE:20200507
DTSTAMP:20260423T154825
CREATED:20200227T141313Z
LAST-MODIFIED:20200227T141313Z
UID:610-1588723200-1588809599@carthagenazarenechurch.com
SUMMARY:No Wednesday Night Bible Study at the Church
DESCRIPTION:Our midweek service will take place on Thursday this week for the National Day of Prayer
URL:https://carthagenazarenechurch.com/event/no-wednesday-night-bible-study-at-the-church
END:VEVENT
BEGIN:VEVENT
DTSTART;TZID=UTC:20200419T140000
DTEND;TZID=UTC:20200419T140000
DTSTAMP:20260423T154825
CREATED:20200227T140946Z
LAST-MODIFIED:20200227T140946Z
UID:606-1587304800-1587304800@carthagenazarenechurch.com
SUMMARY:Nursing Home Ministry
DESCRIPTION:Join us at 2pm at Country Manor in Carthage
URL:https://carthagenazarenechurch.com/event/nursing-home-ministry-3
END:VEVENT
BEGIN:VEVENT
DTSTART;TZID=UTC:20200410T190000
DTEND;TZID=UTC:20200410T190000
DTSTAMP:20260423T154825
CREATED:20200227T140728Z
LAST-MODIFIED:20200227T140728Z
UID:604-1586545200-1586545200@carthagenazarenechurch.com
SUMMARY:Good Friday Service
DESCRIPTION:
URL:https://carthagenazarenechurch.com/event/good-friday-service
END:VEVENT
BEGIN:VEVENT
DTSTART;TZID=UTC:20200310T183000
DTEND;TZID=UTC:20200310T203000
DTSTAMP:20260423T154825
CREATED:20200227T140418Z
LAST-MODIFIED:20200227T140418Z
UID:600-1583865000-1583872200@carthagenazarenechurch.com
SUMMARY:Church Board Meeting
DESCRIPTION:
URL:https://carthagenazarenechurch.com/event/church-board-meeting-4
END:VEVENT
BEGIN:VEVENT
DTSTART;TZID=UTC:20200308T123000
DTEND;TZID=UTC:20200308T123000
DTSTAMP:20260423T154825
CREATED:20200227T140546Z
LAST-MODIFIED:20200227T140546Z
UID:602-1583670600-1583670600@carthagenazarenechurch.com
SUMMARY:Potluck Sunday
DESCRIPTION:Bring a dish to share and stay after the service to enjoy a meal and fellowship with your church family!
URL:https://carthagenazarenechurch.com/event/potluck-sunday-2
END:VEVENT
BEGIN:VEVENT
DTSTART;TZID=UTC:20200216T123000
DTEND;TZID=UTC:20200216T123000
DTSTAMP:20260423T154825
CREATED:20200123T135608Z
LAST-MODIFIED:20200123T135608Z
UID:550-1581856200-1581856200@carthagenazarenechurch.com
SUMMARY:Annual Meeting
DESCRIPTION:Its Annual Meeting time! Church member age 15 and up will vote for those who will represent our church in the 2020-2021 church year for both church board leadership as well as delegates to assembly and conventions. Anyone can attend. This meeting will be held immediately following the morning worship service.
URL:https://carthagenazarenechurch.com/event/annual-meeting
END:VEVENT
BEGIN:VEVENT
DTSTART;TZID=UTC:20200211T183000
DTEND;TZID=UTC:20200211T203000
DTSTAMP:20260423T154825
CREATED:20200123T135242Z
LAST-MODIFIED:20200123T135242Z
UID:548-1581445800-1581453000@carthagenazarenechurch.com
SUMMARY:Church Board Meeting
DESCRIPTION:
URL:https://carthagenazarenechurch.com/event/church-board-meeting-3
END:VEVENT
BEGIN:VEVENT
DTSTART;TZID=UTC:20200208T100000
DTEND;TZID=UTC:20200208T160000
DTSTAMP:20260423T154825
CREATED:20191228T180922Z
LAST-MODIFIED:20200123T134705Z
UID:528-1581156000-1581177600@carthagenazarenechurch.com
SUMMARY:2nd Annual CANstruction event
DESCRIPTION:a fundraiser in collaboration with Winterfest to benefit the VEM food pantry and the WCTA. Come see structures built with nonperishable food items and vote with your spare change for the winner! All food will be donated to the food pantry and the money raised from voting to WCTA.
URL:https://carthagenazarenechurch.com/event/2nd-annual-canstruction-event
END:VEVENT
BEGIN:VEVENT
DTSTART;TZID=UTC:20200202T110000
DTEND;TZID=UTC:20200202T110000
DTSTAMP:20260423T154825
CREATED:20200123T135146Z
LAST-MODIFIED:20200123T135146Z
UID:546-1580641200-1580641200@carthagenazarenechurch.com
SUMMARY:Community Outreach Offering
DESCRIPTION:This Sunday we will take up our special Community Outreach Offering during our worship service.
URL:https://carthagenazarenechurch.com/event/community-outreach-offering-2
END:VEVENT
BEGIN:VEVENT
DTSTART;TZID=UTC:20200119T140000
DTEND;TZID=UTC:20200119T150000
DTSTAMP:20260423T154825
CREATED:20191121T140825Z
LAST-MODIFIED:20191121T140825Z
UID:492-1579442400-1579446000@carthagenazarenechurch.com
SUMMARY:Nursing Home Ministry
DESCRIPTION:Join us at 2pm at the Local Nursing Home (Country Manor) for a time of worship\, devotion\, and scripture reading. This is a wonderful opportunity to encourage and be encouraged by the residents at Country Manor!
URL:https://carthagenazarenechurch.com/event/nursing-home-ministry-2
END:VEVENT
BEGIN:VEVENT
DTSTART;TZID=UTC:20200114T183000
DTEND;TZID=UTC:20200114T200000
DTSTAMP:20260423T154825
CREATED:20191228T180557Z
LAST-MODIFIED:20191228T180557Z
UID:526-1579026600-1579032000@carthagenazarenechurch.com
SUMMARY:Church Board Meeting
DESCRIPTION:
URL:https://carthagenazarenechurch.com/event/church-board-meeting-2
END:VEVENT
BEGIN:VEVENT
DTSTART;TZID=UTC:20200112T123000
DTEND;TZID=UTC:20200112T123000
DTSTAMP:20260423T154825
CREATED:20191228T180449Z
LAST-MODIFIED:20191228T181240Z
UID:524-1578832200-1578832200@carthagenazarenechurch.com
SUMMARY:Potluck Sunday!
DESCRIPTION:Bring a dish to share and enjoy a meal and fellowship together immediately following our morning worship service!
URL:https://carthagenazarenechurch.com/event/potluck-sunday
END:VEVENT
BEGIN:VEVENT
DTSTART;TZID=UTC:20200105T110000
DTEND;TZID=UTC:20200105T110000
DTSTAMP:20260423T154825
CREATED:20190105T180321Z
LAST-MODIFIED:20191228T181431Z
UID:522-1578222000-1578222000@carthagenazarenechurch.com
SUMMARY:Community Outreach Offering
DESCRIPTION:We will take up our special community outreach offering during the regular morning worship
URL:https://carthagenazarenechurch.com/event/community-outreach-offering
END:VEVENT
BEGIN:VEVENT
DTSTART;TZID=UTC:20200101T190000
DTEND;TZID=UTC:20200101T190000
DTSTAMP:20260423T154825
CREATED:20191222T165345Z
LAST-MODIFIED:20191222T165345Z
UID:519-1577905200-1577905200@carthagenazarenechurch.com
SUMMARY:New Year's Day Prayer Service
DESCRIPTION:Let’s come together and start out the New Year by seeking Jesus and all that He wants for our lives\, church\, and community!
URL:https://carthagenazarenechurch.com/event/new-years-day-prayer-service
END:VEVENT
BEGIN:VEVENT
DTSTART;TZID=UTC:20191231T173000
DTEND;TZID=UTC:20191231T173000
DTSTAMP:20260423T154825
CREATED:20191222T165009Z
LAST-MODIFIED:20191222T165009Z
UID:516-1577813400-1577813400@carthagenazarenechurch.com
SUMMARY:New Years Eve Party
DESCRIPTION:Pizza and wings provided by the church. Everyone else please bring a drink and a snack to share.
URL:https://carthagenazarenechurch.com/event/new-years-eve-party
END:VEVENT
BEGIN:VEVENT
DTSTART;TZID=UTC:20191224T190000
DTEND;TZID=UTC:20191224T190000
DTSTAMP:20260423T154825
CREATED:20191222T164637Z
LAST-MODIFIED:20191222T164637Z
UID:514-1577214000-1577214000@carthagenazarenechurch.com
SUMMARY:Christmas Eve Candlelight Service
DESCRIPTION:
URL:https://carthagenazarenechurch.com/event/christmas-eve-candlelight-service
END:VEVENT
BEGIN:VEVENT
DTSTART;TZID=UTC:20191207T170000
DTEND;TZID=UTC:20191207T200000
DTSTAMP:20260423T154825
CREATED:20191107T161855Z
LAST-MODIFIED:20191107T162738Z
UID:471-1575738000-1575748800@carthagenazarenechurch.com
SUMMARY:Christmas at the Parsonage!
DESCRIPTION:Come enjoy fellowship\, finger foods\, Christmas treats\, and fun with your Parsonage Family!
URL:https://carthagenazarenechurch.com/event/christmas-at-the-parsonage
END:VEVENT
BEGIN:VEVENT
DTSTART;TZID=UTC:20191206T180000
DTEND;TZID=UTC:20191206T180000
DTSTAMP:20260423T154825
CREATED:20191107T161609Z
LAST-MODIFIED:20191107T162324Z
UID:469-1575655200-1575655200@carthagenazarenechurch.com
SUMMARY:Twin Village Christmas Parade
DESCRIPTION:Help represent our church by walking with us and spreading the love of Jesus and Christmas cheer by passing out candy to local kids! Parade begins at 6pm with line up at 5:30pm. Please be at the church by no later than 5:15 if you plan to walk!
URL:https://carthagenazarenechurch.com/event/twin-village-christmas-parade
END:VEVENT
BEGIN:VEVENT
DTSTART;TZID=UTC:20191205T170000
DTEND;TZID=UTC:20191205T183000
DTSTAMP:20260423T154825
CREATED:20191121T141814Z
LAST-MODIFIED:20191121T141814Z
UID:494-1575565200-1575570600@carthagenazarenechurch.com
SUMMARY:Stone Soup- Free meal open to the public
DESCRIPTION:It’s our turn to host the local VEM Stone Soup Supper. This is a free meal open to the public.  Menu this week is Chili.
URL:https://carthagenazarenechurch.com/event/stone-soup-free-meal-open-to-the-public
END:VEVENT
BEGIN:VEVENT
DTSTART;TZID=UTC:20191130T090000
DTEND;TZID=UTC:20191130T090000
DTSTAMP:20260423T154825
CREATED:20191114T140019Z
LAST-MODIFIED:20191114T140019Z
UID:488-1575104400-1575104400@carthagenazarenechurch.com
SUMMARY:Decorate for Christmas!
DESCRIPTION:Help us decorate the church for Christmas! The Advent Season begins on December 1st and we need your help to get our church ready before that! Meet at the church at 9am on November 30th. Donuts and Fruit provided!
URL:https://carthagenazarenechurch.com/event/decorate-for-christmas
END:VEVENT
BEGIN:VEVENT
DTSTART;TZID=UTC:20191127T000000
DTEND;TZID=UTC:20191127T000000
DTSTAMP:20260423T154825
CREATED:20191114T134651Z
LAST-MODIFIED:20191114T134722Z
UID:486-1574812800-1574812800@carthagenazarenechurch.com
SUMMARY:No Activities
DESCRIPTION:No regularly scheduled activities at the church this evening. Happy Thanksgiving Everyone.
URL:https://carthagenazarenechurch.com/event/no-activities
END:VEVENT
END:VCALENDAR