BEGIN:VCALENDAR
VERSION:2.0
PRODID:-//Carthage Nazarene Church - ECPv6.15.20//NONSGML v1.0//EN
CALSCALE:GREGORIAN
METHOD:PUBLISH
X-WR-CALNAME:Carthage Nazarene Church
X-ORIGINAL-URL:https://carthagenazarenechurch.com
X-WR-CALDESC:Events for Carthage Nazarene Church
REFRESH-INTERVAL;VALUE=DURATION:PT1H
X-Robots-Tag:noindex
X-PUBLISHED-TTL:PT1H
BEGIN:VTIMEZONE
TZID:UTC
BEGIN:STANDARD
TZOFFSETFROM:+0000
TZOFFSETTO:+0000
TZNAME:UTC
DTSTART:20180101T000000
END:STANDARD
END:VTIMEZONE
BEGIN:VEVENT
DTSTART;TZID=UTC:20191126T190000
DTEND;TZID=UTC:20191126T190000
DTSTAMP:20260423T220934
CREATED:20191114T134457Z
LAST-MODIFIED:20191114T134457Z
UID:484-1574794800-1574794800@carthagenazarenechurch.com
SUMMARY:Community Thanksgiving Service
DESCRIPTION:Hosted by Carthage United Methodist Church
URL:https://carthagenazarenechurch.com/event/community-thanksgiving-service
END:VEVENT
BEGIN:VEVENT
DTSTART;TZID=UTC:20191117T140000
DTEND;TZID=UTC:20191117T140000
DTSTAMP:20260423T220934
CREATED:20191114T134311Z
LAST-MODIFIED:20191114T134311Z
UID:482-1573999200-1573999200@carthagenazarenechurch.com
SUMMARY:Nursing Home Ministry
DESCRIPTION:
URL:https://carthagenazarenechurch.com/event/nursing-home-ministry
END:VEVENT
BEGIN:VEVENT
DTSTART;TZID=UTC:20191116T120000
DTEND;TZID=UTC:20191116T120000
DTSTAMP:20260423T220934
CREATED:20191107T161051Z
LAST-MODIFIED:20191107T161051Z
UID:465-1573905600-1573905600@carthagenazarenechurch.com
SUMMARY:Baby Shower
DESCRIPTION:Help us shower Baby Arrigo and his mama-to-be Brittney with Love while enjoying some fellowship and a light meal
URL:https://carthagenazarenechurch.com/event/baby-shower
END:VEVENT
BEGIN:VEVENT
DTSTART;TZID=UTC:20191112T183000
DTEND;TZID=UTC:20191112T183000
DTSTAMP:20260423T220934
CREATED:20191107T160851Z
LAST-MODIFIED:20191107T160851Z
UID:463-1573583400-1573583400@carthagenazarenechurch.com
SUMMARY:Church Board Meeting
DESCRIPTION:
URL:https://carthagenazarenechurch.com/event/church-board-meeting
END:VEVENT
BEGIN:VEVENT
DTSTART;TZID=UTC:20191110T123000
DTEND;TZID=UTC:20191110T123000
DTSTAMP:20260423T220934
CREATED:20191107T162138Z
LAST-MODIFIED:20191107T162138Z
UID:474-1573389000-1573389000@carthagenazarenechurch.com
SUMMARY:Thanksgiving/Christmas Meal
DESCRIPTION:We are combining our November and December potlucks to have one large Holiday meal as a church family. Ham and Turkey will be provided. Please bring a dish to share! Food and fellowship begins immediately following the Sunday Morning Worship service!
URL:https://carthagenazarenechurch.com/event/thanksgiving-christmas-meal
END:VEVENT
BEGIN:VEVENT
DTSTART;TZID=UTC:20191108T000000
DTEND;TZID=UTC:20191108T000000
DTSTAMP:20260423T220934
CREATED:20191107T162926Z
LAST-MODIFIED:20191107T162927Z
UID:478-1573171200-1573171200@carthagenazarenechurch.com
SUMMARY:Quilting Class
DESCRIPTION:meeting in the church gym! Contact Lori Humphries for details!
URL:https://carthagenazarenechurch.com/event/quilting-class
END:VEVENT
BEGIN:VEVENT
DTSTART;TZID=UTC:20191107T173000
DTEND;TZID=UTC:20191107T173000
DTSTAMP:20260423T220934
CREATED:20191107T161213Z
LAST-MODIFIED:20191107T161213Z
UID:467-1573147800-1573147800@carthagenazarenechurch.com
SUMMARY:Ladies Night Out
DESCRIPTION:Dinner at Brick Oven Inn in Beaver Falls \nContact Lori Humphries if you have any questions.
URL:https://carthagenazarenechurch.com/event/ladies-night-out
END:VEVENT
BEGIN:VEVENT
DTSTART;TZID=UTC:20191027T180000
DTEND;TZID=UTC:20191027T180000
DTSTAMP:20260423T220934
CREATED:20190927T001012Z
LAST-MODIFIED:20190927T001012Z
UID:443-1572199200-1572199200@carthagenazarenechurch.com
SUMMARY:Night of Community\, Worship\, and Prayer
DESCRIPTION:
URL:https://carthagenazarenechurch.com/event/night-of-community-worship-and-prayer-2
END:VEVENT
BEGIN:VEVENT
DTSTART;TZID=UTC:20191012T090000
DTEND;TZID=UTC:20191012T140000
DTSTAMP:20260423T220934
CREATED:20190927T001231Z
LAST-MODIFIED:20190927T001231Z
UID:445-1570870800-1570888800@carthagenazarenechurch.com
SUMMARY:SDMI Super Saturday
DESCRIPTION:Free event in Syracuse.
URL:https://carthagenazarenechurch.com/event/sdmi-super-saturday
END:VEVENT
BEGIN:VEVENT
DTSTART;TZID=UTC:20191004T183000
DTEND;TZID=UTC:20191004T183000
DTSTAMP:20260423T220934
CREATED:20190927T001550Z
LAST-MODIFIED:20190927T001550Z
UID:447-1570213800-1570213800@carthagenazarenechurch.com
SUMMARY:Movie Night
DESCRIPTION:Free event! Open to the community! Bring a drink and a snack to share and enjoy the movie “Tomorrowland” to kick off our sermon teaching series “Trusting God with Tomorrow” Popcorn will be provided! Doors open at 6pm\, movie begins at 6:30pm.
URL:https://carthagenazarenechurch.com/event/movie-night
END:VEVENT
BEGIN:VEVENT
DTSTART;TZID=UTC:20190929T180000
DTEND;TZID=UTC:20190929T180000
DTSTAMP:20260423T220934
CREATED:20190927T000558Z
LAST-MODIFIED:20190927T000558Z
UID:439-1569780000-1569780000@carthagenazarenechurch.com
SUMMARY:Night of Community\, Worship\, and Prayer
DESCRIPTION:
URL:https://carthagenazarenechurch.com/event/night-of-community-worship-and-prayer
END:VEVENT
BEGIN:VEVENT
DTSTART;TZID=UTC:20190928T080000
DTEND;TZID=UTC:20190928T130000
DTSTAMP:20260423T220934
CREATED:20190927T000753Z
LAST-MODIFIED:20190927T000753Z
UID:441-1569657600-1569675600@carthagenazarenechurch.com
SUMMARY:All Church Work Day
DESCRIPTION:Come lend a hand! Many hands make light work! Lunch provided!
URL:https://carthagenazarenechurch.com/event/all-church-work-day
END:VEVENT
BEGIN:VEVENT
DTSTART;TZID=UTC:20190908T100000
DTEND;TZID=UTC:20190911T000000
DTSTAMP:20260423T220934
CREATED:20190718T132642Z
LAST-MODIFIED:20190718T132642Z
UID:407-1567936800-1568160000@carthagenazarenechurch.com
SUMMARY:Love and Truth Encounters with Jay and Judy Jellison
DESCRIPTION:Services are Sunday at 10am and 11am then Monday\, Tuesday and Wednesday at 7pm.
URL:https://carthagenazarenechurch.com/event/love-and-truth-encounters-with-jay-and-judy-jellison
END:VEVENT
BEGIN:VEVENT
DTSTART;TZID=UTC:20190825T180000
DTEND;TZID=UTC:20190825T180000
DTSTAMP:20260423T220934
CREATED:20190808T140204Z
LAST-MODIFIED:20190808T140204Z
UID:423-1566756000-1566756000@carthagenazarenechurch.com
SUMMARY:A night of Community Worship and Prayer
DESCRIPTION:
URL:https://carthagenazarenechurch.com/event/a-night-of-community-worship-and-prayer-3
END:VEVENT
BEGIN:VEVENT
DTSTART;TZID=UTC:20190824T174500
DTEND;TZID=UTC:20190824T174500
DTSTAMP:20260423T220934
CREATED:20190718T132326Z
LAST-MODIFIED:20190718T132326Z
UID:405-1566668700-1566668700@carthagenazarenechurch.com
SUMMARY:Women's Ministry Twilight Cruise
DESCRIPTION:Church bus will leave church at 5:45pm and cruise begins at 7. Registration and payment due by August 11th.
URL:https://carthagenazarenechurch.com/event/womens-ministry-twilight-cruise
END:VEVENT
BEGIN:VEVENT
DTSTART;TZID=UTC:20190817T180000
DTEND;TZID=UTC:20190817T180000
DTSTAMP:20260423T220934
CREATED:20190718T131828Z
LAST-MODIFIED:20190718T131828Z
UID:403-1566064800-1566064800@carthagenazarenechurch.com
SUMMARY:"Town Hall Meeting"
DESCRIPTION:
URL:https://carthagenazarenechurch.com/event/town-hall-meeting
END:VEVENT
BEGIN:VEVENT
DTSTART;TZID=UTC:20190728T180000
DTEND;TZID=UTC:20190728T180000
DTSTAMP:20260423T220934
CREATED:20190721T002132Z
LAST-MODIFIED:20190721T002132Z
UID:412-1564336800-1564336800@carthagenazarenechurch.com
SUMMARY:A Night of Community\, Worship and Prayer
DESCRIPTION:
URL:https://carthagenazarenechurch.com/event/a-night-of-community-worship-and-prayer-2
END:VEVENT
BEGIN:VEVENT
DTSTART;TZID=UTC:20190720T090000
DTEND;TZID=UTC:20190720T090000
DTSTAMP:20260423T220934
CREATED:20190718T133257Z
LAST-MODIFIED:20190718T133257Z
UID:409-1563613200-1563613200@carthagenazarenechurch.com
SUMMARY:YMCA Golf Scramble Event
DESCRIPTION:Volunteers please be to the golf club by 9am. Tee-off is at 9:30am.
URL:https://carthagenazarenechurch.com/event/ymca-golf-scramble-event
END:VEVENT
BEGIN:VEVENT
DTSTART;TZID=UTC:20190609T180000
DTEND;TZID=UTC:20190609T180000
DTSTAMP:20260423T220934
CREATED:20190531T184157Z
LAST-MODIFIED:20190531T184157Z
UID:388-1560103200-1560103200@carthagenazarenechurch.com
SUMMARY:A Night Of Community Worship and Prayer
DESCRIPTION:Ephesians 4:4-6 says “There is one body and one spirit\, just as you were called in one hope of our calling; One Lord\, One Faith\, One Baptism; One God and Father of all who is above all and through all\, and in you all.” \nThe challenges we face in our community won’t be solved by individual efforts\, no matter how impressive they may be. We need the presence of Jesus to be restored to His church. Citywide problems require a citywide church to cry out in desperation for the presence of God to be restored. The body of Christ in a city is either going to be salt and light and therefore have a positive impact on the city\, or the city with its opposing values will influence and mold the church into its own image. Paul connects the reality of our unity in Christ with the measure of the fullness we obtain in Him together.
URL:https://carthagenazarenechurch.com/event/a-night-of-community-worship-and-prayer
LOCATION:Carthage Church of the Nazarene\, 960 State Street\, Carthage\, NY\, 13619\, United States
ATTACH;FMTTYPE=image/jpeg:https://carthagenazarenechurch.com/wp-content/uploads/2019/05/1.jpg
END:VEVENT
BEGIN:VEVENT
DTSTART;TZID=UTC:20190601T083000
DTEND;TZID=UTC:20190601T140000
DTSTAMP:20260423T220934
CREATED:20190522T174246Z
LAST-MODIFIED:20190522T174246Z
UID:381-1559377800-1559397600@carthagenazarenechurch.com
SUMMARY:Craft Fair & Sale
DESCRIPTION:In conjunction with the Village Trash and Treasure Days we will be hosting our Annual Craft Fair. We have multiple vendors scheduled as well as a full concession stand and bake sale! There will be something for everyone! We hope to see YOU there!
URL:https://carthagenazarenechurch.com/event/craft-fair-sale
LOCATION:Carthage Church of the Nazarene\, 960 State Street\, Carthage\, NY\, 13619\, United States
ATTACH;FMTTYPE=image/jpeg:https://carthagenazarenechurch.com/wp-content/uploads/2019/05/60574055_356310695239773_1287308183735369728_n.jpg
END:VEVENT
BEGIN:VEVENT
DTSTART;TZID=UTC:20190412T180000
DTEND;TZID=UTC:20190412T210000
DTSTAMP:20260423T220934
CREATED:20190405T150132Z
LAST-MODIFIED:20190405T150339Z
UID:358-1555092000-1555102800@carthagenazarenechurch.com
SUMMARY:Free Family Movie Night
DESCRIPTION:Wear your pajamas or comfy clothes and join us for a showing of Dreamwork Animation’s Rise of the Guardians. \nDoors open at 6pm with movie starting at 630pm \nConcessions available will include items such as cotton candy\, soft pretzels\, nachos\, hot dogs\, hamburgers\, popcorn\, drinks\, and candy! Skip your normal Friday night fare and have dinner and a movie. ***Proceeds to benefit our teens going to Nazarene Youth Conference this July*** \nDonations to benefit the same will be accepted at the door and while always appreciated are not required.
URL:https://carthagenazarenechurch.com/event/free-family-movie-night
LOCATION:Carthage Church of the Nazarene\, 960 State Street\, Carthage\, NY\, 13619\, United States
ATTACH;FMTTYPE=image/jpeg:https://carthagenazarenechurch.com/wp-content/uploads/2019/04/rise.jpg
END:VEVENT
BEGIN:VEVENT
DTSTART;TZID=UTC:20190308T190000
DTEND;TZID=UTC:20190312T190000
DTSTAMP:20260423T220934
CREATED:20190304T140257Z
LAST-MODIFIED:20190304T140257Z
UID:336-1552071600-1552417200@carthagenazarenechurch.com
SUMMARY:Prevailing Intensive and Kingdom Lifestyle Revival
DESCRIPTION:Prevailing in the Battle Zone Intensive on Friday March 8th at 7pm and Saturday March 9th at 9am \nKingdom Lifestyle Revival Sunday March 10th at 11am\, Monday and Tuesday March 11-12th at 7pm. \nThe sanctuary will be open 1/2 hour before each service for prayer.\nChild care will be provided as well as Lunch on Saturday \n  \n 
URL:https://carthagenazarenechurch.com/event/prevailing-intensive-and-kingdom-lifestyle-revival
LOCATION:Carthage Church of the Nazarene\, 960 State Street\, Carthage\, NY\, 13619\, United States
ATTACH;FMTTYPE=image/jpeg:https://carthagenazarenechurch.com/wp-content/uploads/2019/03/52863953_315902299280613_5817008357428428800_n.jpg
END:VEVENT
BEGIN:VEVENT
DTSTART;TZID=UTC:20190222T180000
DTEND;TZID=UTC:20190222T180000
DTSTAMP:20260423T220934
CREATED:20190211T140338Z
LAST-MODIFIED:20190211T140338Z
UID:325-1550858400-1550858400@carthagenazarenechurch.com
SUMMARY:NYI Family Movie Night Fundraiser
DESCRIPTION:Join us for a family movie night showing of Disney Pixar’s Inside Out. Admission by donation to benefit our teens going to Nazarene Youth Conference this July. Concessions will be available! Wear your comfy clothes or pajamas and bring the whole family to enjoy the fun!
URL:https://carthagenazarenechurch.com/event/nyi-family-movie-night-fundraiser
LOCATION:Carthage Church of the Nazarene\, 960 State Street\, Carthage\, NY\, 13619\, United States
ATTACH;FMTTYPE=image/jpeg:https://carthagenazarenechurch.com/wp-content/uploads/2019/02/1.jpg
END:VEVENT
END:VCALENDAR